BEGIN:VCALENDAR
VERSION:2.0
PRODID:-//hacksw/handcal//NONSGML v1.0//EN
BEGIN:VEVENT
SUMMARY:Sortie du Jeudi
UID:db57557b-de5b-46bd-9d4d-dd50b2659934
DTSTART:20260319T120000Z
DTEND:20260319T160000Z
LOCATION:Localisation   
CATEGORIES:Sportif
STATUS:
DESCRIPTION:<p><span style="font-size:18px;">Eybens -Pont de
 Claix-Vif -Champ sur Drac - Vizille-Uriage- Brie </span></p>
URL;VALUE=URI:https://cyclos-eybenspoisat.sportsregions.fr/evenements/2026/03/19/sortie-du-jeudi-2422715
END:VEVENT
END:VCALENDAR
