BEGIN:VCALENDAR
VERSION:2.0
PRODID:-//hacksw/handcal//NONSGML v1.0//EN
BEGIN:VEVENT
SUMMARY:RANDONNEE DES RETRAITES  CYCLO CLUB DE VOREPPE      ANNULEE
UID:b5766cdc-a38d-4914-b2ab-7a7dde0dfdaa
DTSTART:20260326T090000Z
DTEND:20260326T163000Z
LOCATION:Localisation   
CATEGORIES:Sportif
STATUS:
DESCRIPTION:<p><u><strong>RANDONNEE DES RETRAITES CYCLO CLUB DE
 VOREPPE</strong></u></p>
 
 <p>Accueil : Gymnase de l’Arcade- 507 543
 avenue du 11 novembre 38340 VOREPPE</p>
 
 <p>Horaires : accueil de 10h
 a 12h30 - cloture a 17h</p>
 
 <p><u><strong>Parcours 1</strong></u>:
 55km 430D+: <a
 href="https://www.openrunner.com/route-details/20891575?fbclid=IwY2xjawQslQlleHRuA2FlbQIxMQBzcnRjBmFwcF9pZBAyMjIwMzkxNzg4MjAwODkyAAEeoZ0T7o0NWSxAO7cOo5L9iHXJf4goQWtC752SMJ9DUgOs4hI7l2Zx4tmtE3s_aem_scNqXBWnfu8Bvdcg08jP6g"
 target="_blank" rel="noreferrer
 noopener">https://www.openrunner.com/route-details/20891575</a></p>
 
 <p><strong><u>Parcours
 2</u></strong>: 78km 730D+: <a
 href="https://www.openrunner.com/route-details/18442115"
 target="_blank" rel="noreferrer
 noopener">https://www.openrunner.com/route-details/18442115</a></p>
 
 <p>Tarifs
 : Adherent FFCT : 8€ - moins de 18 ans : gratuit<br>
 Non adherent
 FFCT: 11€ - moins de 18 ans : 11€    <strong><u><span
 style="color:#cc0000;"><span
 style="font-size:24px;">ANNULEE</span></span></u></strong></p>
 
 <p> </p>
URL;VALUE=URI:https://cyclos-eybenspoisat.sportsregions.fr/evenements/2026/03/26/randonnee-des-retraites-cyclo-club-de-voreppe-annulee-2401741
END:VEVENT
END:VCALENDAR
