BEGIN:VCALENDAR
VERSION:2.0
PRODID:-//hacksw/handcal//NONSGML v1.0//EN
BEGIN:VEVENT
SUMMARY:Reunion Club
UID:d1f28b58-5cea-4223-8eaa-01723d630d2e
DTSTART:20260407T163000Z
DTEND:20260407T173000Z
LOCATION:Localisation   
CATEGORIES:Sportif
STATUS:
URL;VALUE=URI:https://cyclos-eybenspoisat.sportsregions.fr/evenements/2026/04/07/reunion-club-2435167
END:VEVENT
END:VCALENDAR
