BEGIN:VCALENDAR
VERSION:2.0
PRODID:-//hacksw/handcal//NONSGML v1.0//EN
BEGIN:VEVENT
SUMMARY:Sortie Club col des mille martyrs
UID:d7c00a99-62b1-4521-8355-9fc6a82e888d
DTSTART:20260418T070000Z
DTEND:20260418T130000Z
LOCATION:Localisation parking relais pont barrage 38120 saint-egreve
CATEGORIES:Sportif
STATUS:
DESCRIPTION:<p><u><strong>Parcours  75 kms 1070 m D+ a partir du
 pont barrage de saint-Egreve</strong></u></p>
 
 <p><strong>St
 Egreve</strong></p>
 
 <p>Coublevie+</p>
 
 <p>St Etienne de
 Crossey</p>
 
 <p>St Nicolas</p>
 
 <p>St Sixte</p>
 
 <p>Col des Milles
 Martyrs</p>
 
 <p>Miribel</p>
 
 <p>La Placette</p>
 
 <p><strong>St
 Egreve</strong></p>
 
 <p><a
 href="https://www.openrunner.com/route-details/13755962"
 target="_blank" rel="noreferrer noopener">lien openrunner du
 parcours</a></p>
 
 <p><span style="color:#cc0000;"><u><span
 style="font-size:18px;">Infos a
 venir</span></u></span></p>
 
 <ul>
 	<li><span
 style="color:#c0392b;"><strong>RV Parking Odyssee Eybens a
 8h00</strong></span></li>
 	<li><strong>RV Passerelle
 +40mn </strong></li>
 	<li><strong>RV Pont Barrage
 +60mn</strong></li>
 	<li><span style="color:#cc0000;"><strong>depart
 du pont barrage 9h00</strong></span></li>
 </ul>
 
 <p> </p>
URL;VALUE=URI:https://cyclos-eybenspoisat.sportsregions.fr/evenements/2026/04/18/sortie-club-col-des-mille-martyrs-2431271
END:VEVENT
END:VCALENDAR
